BEGIN:VCALENDAR
VERSION:2.0
PRODID:-//Dies Natalis Akbar FHUI - ECPv6.7.0//NONSGML v1.0//EN
CALSCALE:GREGORIAN
METHOD:PUBLISH
X-WR-CALNAME:Dies Natalis Akbar FHUI
X-ORIGINAL-URL:https://diesnat.law.ui.ac.id
X-WR-CALDESC:Events for Dies Natalis Akbar FHUI
REFRESH-INTERVAL;VALUE=DURATION:PT1H
X-Robots-Tag:noindex
X-PUBLISHED-TTL:PT1H
BEGIN:VTIMEZONE
TZID:Asia/Jakarta
BEGIN:STANDARD
TZOFFSETFROM:+0700
TZOFFSETTO:+0700
TZNAME:WIB
DTSTART:20240101T000000
END:STANDARD
END:VTIMEZONE
BEGIN:VEVENT
DTSTART;TZID=Asia/Jakarta:20241029T100000
DTEND;TZID=Asia/Jakarta:20241029T170000
DTSTAMP:20260420T072813
CREATED:20241014T074402Z
LAST-MODIFIED:20241014T074402Z
UID:1151-1730196000-1730221200@diesnat.law.ui.ac.id
SUMMARY:SEMINAR NASIONAL “Profesor Soepomo: Cendekiawan Hukum Adat\, Arsitek Utama Konstitusi” (Soepomo Legacy: Adat Law Scholar\, the Main Architect of Constitutions)
DESCRIPTION:
URL:https://diesnat.law.ui.ac.id/kalender-acara/seminar-nasional-profesor-soepomo-cendekiawan-hukum-adat-arsitek-utama-konstitusi-soepomo-legacy-adat-law-scholar-the-main-architect-of-constitutions/
END:VEVENT
END:VCALENDAR